BEGIN:VCALENDAR
VERSION:2.0
PRODID:-//ZOCF - ECPv6.15.20//NONSGML v1.0//EN
CALSCALE:GREGORIAN
METHOD:PUBLISH
X-WR-CALNAME:ZOCF
X-ORIGINAL-URL:https://zocf.org
X-WR-CALDESC:Events for ZOCF
REFRESH-INTERVAL;VALUE=DURATION:PT1H
X-Robots-Tag:noindex
X-PUBLISHED-TTL:PT1H
BEGIN:VTIMEZONE
TZID:UTC
BEGIN:STANDARD
TZOFFSETFROM:+0000
TZOFFSETTO:+0000
TZNAME:UTC
DTSTART:20210101T000000
END:STANDARD
END:VTIMEZONE
BEGIN:VEVENT
DTSTART;TZID=UTC:20231103T140000
DTEND;TZID=UTC:20231105T140000
DTSTAMP:20260423T193114
CREATED:20230820T163814Z
LAST-MODIFIED:20230820T163814Z
UID:12011-1699020000-1699192800@zocf.org
SUMMARY:Couples' Weekend Out
DESCRIPTION:
URL:https://zocf.org/event/couples-weekend-out/
LOCATION:Elim conference Centre
ATTACH;FMTTYPE=image/jpeg:https://zocf.org/wp-content/uploads/2023/08/Couples-Retreat-Weekend.jpg
END:VEVENT
BEGIN:VEVENT
DTSTART;TZID=UTC:20231021T100000
DTEND;TZID=UTC:20231021T170000
DTSTAMP:20260423T193114
CREATED:20230730T163829Z
LAST-MODIFIED:20230730T163829Z
UID:11998-1697882400-1697907600@zocf.org
SUMMARY:59th Zambia Independence Celebrations
DESCRIPTION:
URL:https://zocf.org/event/59th-zambia-independence-celebrations/
LOCATION:King’s House Conference centre\, 245 Ampthill Road\, Bedford\, MK42 9AZ\, United Kingdom
ATTACH;FMTTYPE=image/jpeg:https://zocf.org/wp-content/uploads/2023/07/PHOTO-2023-07-07-22-35-10.jpg
END:VEVENT
BEGIN:VEVENT
DTSTART;TZID=UTC:20230602T140000
DTEND;TZID=UTC:20230604T140000
DTSTAMP:20260423T193114
CREATED:20230420T185450Z
LAST-MODIFIED:20230516T173902Z
UID:11834-1685714400-1685887200@zocf.org
SUMMARY:ZOCF UK Women's Conference 2023
DESCRIPTION:The ZOCF UK Women’s committee presents – 2023 Women’s Conference!\nAfter the successful first physical Women’s Conference post Covid-19 pandemic\, please join us at Yarnfield Conference Centre\, Staffordshire for a Life Transforming Conference. An awesome Time of Fellowship in God’s presence with other Ladies and Young adults from across the UK and beyond! \n(Ps 16:11). \nFor in him we live\, move and have our being For in his presence\, there is fullness of Joy and life evermore… \nOur Guest Speakers will be confirmed.
URL:https://zocf.org/event/zocf-uk-womens-conference-2023/
LOCATION:Yarnfield Park Training & Conference Centre\, Yarnfield\, Stone\, Staffordshire\,\, Yarnfield\, ST15 0NL\, United Kingdom
ATTACH;FMTTYPE=image/jpeg:https://zocf.org/wp-content/uploads/2023/04/PHOTO-2023-05-14-20-55-02-1.jpg
END:VEVENT
BEGIN:VEVENT
DTSTART;TZID=UTC:20230526T000000
DTEND;TZID=UTC:20230528T000000
DTSTAMP:20260423T193114
CREATED:20230420T185647Z
LAST-MODIFIED:20230420T185647Z
UID:11788-1685059200-1685232000@zocf.org
SUMMARY:ZOCF Mens conference
DESCRIPTION:
URL:https://zocf.org/event/zocf-mens-conference/
LOCATION:The Hayes Conference Centre\, The Hayes Conference Centre\, Hayes Ln\, Swanwick\, Alfreton\, Swanwick\, DE55 1AU
ATTACH;FMTTYPE=image/jpeg:https://zocf.org/wp-content/uploads/2023/04/mens-conference-flyer.jpg
END:VEVENT
BEGIN:VEVENT
DTSTART;TZID=UTC:20230415T140000
DTEND;TZID=UTC:20230415T170000
DTSTAMP:20260423T193114
CREATED:20230420T185729Z
LAST-MODIFIED:20230420T185729Z
UID:11865-1681567200-1681578000@zocf.org
SUMMARY:ZOCF London Region Relaunch
DESCRIPTION:
URL:https://zocf.org/event/zocf-london-region-relaunch/
LOCATION:ZOCF London Region Relaunch\, 47 London Rd\, Enfield\, London\, EN2 6DS\, United Kingdom
ATTACH;FMTTYPE=image/jpeg:https://zocf.org/wp-content/uploads/2023/04/ef031f69-2ab6-4915-ad80-75942cd49559.jpg
END:VEVENT
BEGIN:VEVENT
DTSTART;TZID=UTC:20221027T110000
DTEND;TZID=UTC:20221027T173000
DTSTAMP:20260423T193114
CREATED:20230420T185847Z
LAST-MODIFIED:20230420T185847Z
UID:11869-1666868400-1666891800@zocf.org
SUMMARY:Zambia's 58th Celebration in Manchester
DESCRIPTION:
URL:https://zocf.org/event/zambias-58th-celebration-in-manchester/
LOCATION:Women’s Conference 2022\, 12 Centenary Park\, Coronet Way\, Salford Manchester\, Manchester\, M50 1RE ​\, United Kingdom
ATTACH;FMTTYPE=image/jpeg:https://zocf.org/wp-content/uploads/2022/10/2019.jpg
END:VEVENT
BEGIN:VEVENT
DTSTART;TZID=UTC:20221022T100000
DTEND;TZID=UTC:20221022T170000
DTSTAMP:20260423T193114
CREATED:20221017T171002Z
LAST-MODIFIED:20221019T113914Z
UID:11259-1666432800-1666458000@zocf.org
SUMMARY:Zambian Independence Day Celebrations
DESCRIPTION:We make it safe\, easy\, and fun for anyone to give to vetted nonprofits anywhere in the world. Want to raise money for your favorite cause? We’ve got you covered there too.​
URL:https://zocf.org/event/zambian-independence-day-celebrations/
LOCATION:The Light House Church\, 12 Coronet Way\, Salford\, Manchester\, M50 1RE\, United Kingdom
ATTACH;FMTTYPE=image/jpeg:https://zocf.org/wp-content/uploads/2022/10/ZambianIndependence-zocf22-1-1.jpeg
END:VEVENT
BEGIN:VEVENT
DTSTART;TZID=UTC:20220527T080000
DTEND;TZID=UTC:20220529T170000
DTSTAMP:20260423T193114
CREATED:20230420T185756Z
LAST-MODIFIED:20230514T203403Z
UID:11873-1653638400-1653843600@zocf.org
SUMMARY:ZOCF Women's annual conference 2022
DESCRIPTION:
URL:https://zocf.org/event/zocf-womens-annual-conference-2022/
ATTACH;FMTTYPE=image/jpeg:https://zocf.org/wp-content/uploads/2022/08/12079529-957581517642276-2709699871836024282-n-1024x576-1.jpg
END:VEVENT
END:VCALENDAR